BEGIN:VCALENDAR
PRODID:-//AT Content Types//AT Event//EN
VERSION:2.0
METHOD:PUBLISH
BEGIN:VEVENT
DTSTAMP:20260420T082921Z
CREATED:20100304T124600Z
UID:ATEvent-73b2237327b62ad8953154683152d11e
LAST-MODIFIED:20100304T124609Z
SUMMARY:Thomas-Schulz-Gedenkdemo
DTSTART:20100403T140000Z
DTEND:20100403T160000Z
DESCRIPTION:Vor nunmehr fünf Jahren wurde der Punk Thomas „Schmudde
 l“ Schulz mitten in der belebten Dortmunder Innenstadt von einem jug
 endlichen Neonazi brutal niedergestochen.
LOCATION:Dortmund\, Hauptbahnhof (Vorplatz)
CATEGORIES:Demo
CLASS:PUBLIC
END:VEVENT
END:VCALENDAR
