BEGIN:VCALENDAR
PRODID:-//AT Content Types//AT Event//EN
VERSION:2.0
METHOD:PUBLISH
BEGIN:VEVENT
DTSTAMP:20260421T101357Z
CREATED:20260126T152645Z
UID:ATEvent-24b6e96a50bdce0e4640c612e5f64e2a
LAST-MODIFIED:20260126T152700Z
SUMMARY:Freies Internet für Alle
DTSTART:20260211T180000Z
DTEND:20260211T200000Z
CATEGORIES:Gesprächsrunde
CLASS:PUBLIC
END:VEVENT
END:VCALENDAR
