BEGIN:VCALENDAR
PRODID:-//AT Content Types//AT Event//EN
VERSION:1.0
BEGIN:VEVENT
DTSTART:20260211T180000Z
DTEND:20260211T200000Z
DCREATED:20260126T152218Z
UID:ATEvent-a64bd4900fc020c1a154146a02f1e934
SEQUENCE:0
LAST-MODIFIED:20260126T152230Z
SUMMARY:Einführung in die Nutzung freier Software (L)Ubuntu
PRIORITY:3
TRANSP:0
END:VEVENT
END:VCALENDAR
