BEGIN:VCALENDAR
PRODID:-//AT Content Types//AT Event//EN
VERSION:2.0
METHOD:PUBLISH
BEGIN:VEVENT
DTSTAMP:20260421T112828Z
CREATED:20160705T160942Z
UID:ATEvent-30d19f8a7dbc3658aab5af6703367c99
LAST-MODIFIED:20160705T161005Z
SUMMARY:Wohnblog-Picknick - Treffen für gemeinschaftliche  Wohnprojekte im Raum Dortmund
DTSTART:20160722T133000Z
DTEND:20160722T150000Z
DESCRIPTION:Vernetzungstreffen bei Kaffee und Kuchen für alle\, die s
 ich für gemeinschaftliche \nWohnprojekte im Raum Dortmund und \nUmgeb
 ung interessieren.
LOCATION:Café Aufbruch\, Hintere Schildstraße 18\, Dortmund Hörde
CATEGORIES:Soziale Bewegungen / Bündnisse
CLASS:PUBLIC
END:VEVENT
END:VCALENDAR
