BEGIN:VCALENDAR
PRODID:-//AT Content Types//AT Event//EN
VERSION:2.0
METHOD:PUBLISH
BEGIN:VEVENT
DTSTAMP:20260421T095055Z
CREATED:20150906T122547Z
UID:ATEvent-e21b5411e1df34a1194ea5b1ba1ca0aa
LAST-MODIFIED:20150928T170442Z
SUMMARY:Wohnblog-Picknick
DTSTART:20151002T160000Z
DTEND:20151002T180000Z
DESCRIPTION:Vernetzungstreffen bei Kaffee und Kuchen für alle\, die s
 ich für gemeinschaftliche Wohnprojekte im Raum Dortmund und Umgebung 
 interessieren. Jede_r ist willkommen.
LOCATION:Café Aufbruch\, Hintere Schildstr. 18\, Dortmund Hörde
CLASS:PUBLIC
END:VEVENT
END:VCALENDAR
