BEGIN:VCALENDAR
PRODID:-//AT Content Types//AT Event//EN
VERSION:2.0
METHOD:PUBLISH
BEGIN:VEVENT
DTSTAMP:20260421T082807Z
CREATED:20140116T120403Z
UID:ATEvent-43da0ec7d8d535e8a4fd2ea3f7edae23
LAST-MODIFIED:20140116T120953Z
SUMMARY:Winterwerkstatt für Kinder und Naturerlebnis-Infonachmittag mit "Querwaldein"
DTSTART:20140122T140000Z
DTEND:20140122T170000Z
DESCRIPTION:Lustige Basteleien aus bunten Herbstmaterialien auch für 
 die Allerkleinsten und Informationen für die Eltern über den Hinterg
 rund unserer Arbeit\, über die Waldspielgruppen und andere Programme.
  Referentin\: Marion Metzger von „Querwaldein“
LOCATION:Café Aufbruch\, Hintere Schildstr. 18\, Dortmund Hörde
CATEGORIES:Kreativwerkstatt
URL:http://www.querwaldein.de/dortmund
CLASS:PUBLIC
END:VEVENT
END:VCALENDAR
