BEGIN:VCALENDAR
PRODID:-//AT Content Types//AT Event//EN
VERSION:1.0
BEGIN:VEVENT
DTSTART:20140219T173000Z
DTEND:20140219T183000Z
DCREATED:20140205T172834Z
UID:ATEvent-5866792dd1e699b6b04927243300f3f5
SEQUENCE:0
LAST-MODIFIED:20140205T172851Z
SUMMARY:Vortrag über Frequenztherapie
DESCRIPTION:Dr. med. Sigrid Teupe\, Dorsten\, Vorsitzende der Deutsche
 n Gesellschaft für Frequenzmedizin spricht über Allergien und Nahrun
 gsmittel-Unverträglichkeiten\, deren Auswirkungen wie u.a. bei MS\, u
 nd was man dagegen tun kann.\nDa begrenzt Plätze zur Verfügung stehe
 n\, wird um frühzeitige Anmeldung \ngebeten\; Anmeldezettel liegen im
  Café Aufbruch aus.
LOCATION:Café Aufbruch\, Hintere Schildstr. 18\, Dortmund Hörde
PRIORITY:3
TRANSP:0
END:VEVENT
END:VCALENDAR
