BEGIN:VCALENDAR
PRODID:-//AT Content Types//AT Event//EN
VERSION:1.0
BEGIN:VEVENT
DTSTART:20150416T163000Z
DTEND:20150416T180000Z
DCREATED:20150327T201000Z
UID:ATEvent-45db9fd2cfc39fe55e14b61f33daf7ac
SEQUENCE:0
LAST-MODIFIED:20150327T201009Z
SUMMARY:Vortrag\: „aufRecht bestehen  -  10 Jahre Hartz IV sind genug!“
DESCRIPTION:Vereinfachung oder Verschlechterung? geplante Änderung de
 s Arbeitslosengeld 2 (Hartz IV)\: "Das Rechtsvereinfachungsgesetz" \n
 Referent\: Helmut Szymanski\, Sozialarbeiter und Dozent für Soziallei
 stungsrecht
LOCATION:Café Aufbruch\, Hintere Schildstr. 18\, Dortmund Hörde
PRIORITY:3
TRANSP:0
END:VEVENT
END:VCALENDAR
