BEGIN:VCALENDAR
PRODID:-//AT Content Types//AT Event//EN
VERSION:2.0
METHOD:PUBLISH
BEGIN:VEVENT
DTSTAMP:20260421T082450Z
CREATED:20260126T120731Z
UID:ATEvent-5d9adefe22f3d7d05eef6d8313a8f903
LAST-MODIFIED:20260126T120741Z
SUMMARY:Vernissage\: „FLÜCHTIGE Augenblicke“
DTSTART:20260207T140000Z
DTEND:20260207T170000Z
CATEGORIES:Ausstellung
CLASS:PUBLIC
END:VEVENT
END:VCALENDAR
