BEGIN:VCALENDAR
PRODID:-//AT Content Types//AT Event//EN
VERSION:1.0
BEGIN:VEVENT
DTSTART:20111023T090000Z
DTEND:20111023T150000Z
DCREATED:20110929T193718Z
UID:ATEvent-51228a0809d72d0d90f8141c50d8b625
SEQUENCE:0
LAST-MODIFIED:20111018T091609Z
SUMMARY:Veranstaltungen im Rahmen des „Offenen Ateliers des Kulturquartier Hörde“
DESCRIPTION:-Kunstprojekt  "Gesichter des Aufbruchs" \nvon und mit R. 
 Antonio Becerra-Pinto\n und Lesung der Schreibwerkstatt.
LOCATION:Café Aufbruch\, Hintere Schildstr. 18\, Dortmund-Hörde
PRIORITY:3
TRANSP:0
END:VEVENT
END:VCALENDAR
