BEGIN:VCALENDAR
PRODID:-//AT Content Types//AT Event//EN
VERSION:1.0
BEGIN:VEVENT
DTSTART:20160706T170000Z
DTEND:20160706T183000Z
DCREATED:20160629T182133Z
UID:ATEvent-86ef5fc063bb1902769460fd52f9b8c9
SEQUENCE:0
LAST-MODIFIED:20160629T182246Z
SUMMARY:Veranstaltung der Geschichtswerkstatt - Die EdelweiÃŸpiraten aus Dortmund
DESCRIPTION:â€žDas Karbidkommando\, EdelweiÃŸpiraten gegen Miesmolcheâ
 €œ\nVorstellung der neuen Ausgabe des Comics von 1987 Ã¼ber den Widers
 tand der Dortmunder EdelweiÃŸpiraten in der Nazizeit.\nHeute in der Ma
 hn- und GedenkstÃ¤tte Steinwache!
LOCATION:Mahn- und GedenkstÃ¤tte Steinwache\,  SteinstraÃŸe 50\, 44147 Dortmund
PRIORITY:3
TRANSP:0
END:VEVENT
END:VCALENDAR
