BEGIN:VCALENDAR
PRODID:-//AT Content Types//AT Event//EN
VERSION:1.0
BEGIN:VEVENT
DTSTART:20170503T170000Z
DTEND:20170503T183000Z
DCREATED:20170425T210059Z
UID:ATEvent-c5e3719af0bcbd62a144438aad88291b
SEQUENCE:0
LAST-MODIFIED:20170425T210153Z
SUMMARY:Veranstaltung der Geschichtswerkstatt - Die beiden Weltkriege und der Syrienkrieg heute.
DESCRIPTION:Früher Begeisterung und Pflichtbewusstsein für den „ei
 genen“ Krieg - Heute Gleichgültigkeit gegenüber dem Krieg\, der un
 s „nichts angeht“?
LOCATION:Café Aufbruch
PRIORITY:3
TRANSP:0
END:VEVENT
END:VCALENDAR
