BEGIN:VCALENDAR
PRODID:-//AT Content Types//AT Event//EN
VERSION:2.0
METHOD:PUBLISH
BEGIN:VEVENT
DTSTAMP:20260421T112539Z
CREATED:20160201T205933Z
UID:ATEvent-9da5f2630ef39f0804856889a2b465e2
LAST-MODIFIED:20160201T205940Z
SUMMARY:Veranstaltung der Geschichtswerkstatt
DTSTART:20160203T180000Z
DTEND:20160203T203000Z
DESCRIPTION:Heute\: World Women's Conference - Weltkonferenz der Basis
 frauen in Nepal \nvom 13.-18.03. 2016
LOCATION:Café Aufbruch\, Hintere Schildstraße 18\, Dortmund Hörde
CATEGORIES:Geschichtswerkstatt
CLASS:PUBLIC
END:VEVENT
END:VCALENDAR
