BEGIN:VCALENDAR
PRODID:-//AT Content Types//AT Event//EN
VERSION:2.0
METHOD:PUBLISH
BEGIN:VEVENT
DTSTAMP:20260421T082556Z
CREATED:20131103T162728Z
UID:ATEvent-028db736603e349b5d4aecf6a9a8679c
LAST-MODIFIED:20131103T164213Z
SUMMARY:Unsere aktuelle Ausstellung\:
DTSTART:20131103T160000Z
DTEND:20131130T170000Z
DESCRIPTION:Eine Fotoausstellung von Rudolf Pöter
LOCATION:Café Aufbruch\, Hintere Schildstr. 18\, Dortmund Hörde
CLASS:PUBLIC
END:VEVENT
END:VCALENDAR
