BEGIN:VCALENDAR
PRODID:-//AT Content Types//AT Event//EN
VERSION:1.0
BEGIN:VEVENT
DTSTART:20151104T180000Z
DTEND:20151104T193000Z
DCREATED:20151030T193400Z
UID:ATEvent-71aa08ff918d8fb9fb151b43d7cbb5c9
SEQUENCE:0
LAST-MODIFIED:20151030T193423Z
SUMMARY:Treffen der Geschichtswerkstatt - "Als das Prügeln von Kindern noch normal war"
DESCRIPTION:In den 50er und 60er Jahren galt nicht nur in Heimen Gewal
 t gegenüber\nKindern als normal.\nEin Großteil der deutschen Nachkri
 egskinder ist ins Leben regelrecht\nhinein geprügelt worden. Wie kam 
 es dazu? Was wurde aus diesen Kindern?
LOCATION:Café Aufbruch\, Hintere Schildstraße 18\, Dortmund Hörde
PRIORITY:3
TRANSP:0
END:VEVENT
END:VCALENDAR
