BEGIN:VCALENDAR
PRODID:-//AT Content Types//AT Event//EN
VERSION:1.0
BEGIN:VEVENT
DTSTART:20141019T090000Z
DTEND:20141019T160000Z
DCREATED:20141012T185321Z
UID:ATEvent-a868d293e6a3ac3a80ebd42d83e98890
SEQUENCE:0
LAST-MODIFIED:20141012T185340Z
SUMMARY:"Tag der offenen Ateliers“ - Hörder Sehfest
DESCRIPTION:Lesungen der Schreibwerkstatt\nmit dem Roman „Treffpunkt
  Schlanke Mathilde“\nund\nUm 16 Uhr\: "Eine Runde um den See"\nund a
 ndere Lieder von und mit Roland Mattigk\, \nFranz-Josef Oberkönig und
  Gästen
LOCATION:Café Aufbruch\, Hintere Schildstr. 18\, Dortmund Hörde
PRIORITY:3
TRANSP:0
END:VEVENT
END:VCALENDAR
