BEGIN:VCALENDAR
PRODID:-//AT Content Types//AT Event//EN
VERSION:1.0
BEGIN:VEVENT
DTSTART:20180625T170000Z
DTEND:20180625T183000Z
DCREATED:20180602T111344Z
UID:ATEvent-bb8ea8b7b672d78ce4fa3b66b58beaf2
SEQUENCE:0
LAST-MODIFIED:20180602T111350Z
SUMMARY:"Spiritualität inmitten unserer irren Welt"
DESCRIPTION:Ein Vortrag von Gerhard Breidenstein.\nViele Menschen leid
 en unter der anscheinend immer verrückter werdenden \nSituation unser
 er Welt. Wie kann man all die Horror-Nachrichten aushalten? \nKann ein
 e moderne Spiritualität\, die nicht mehr an eine Religion gebunden \n
 ist\, dabei helfen?
LOCATION:Café Aufbruch\, Hintere Schildstraße 18
PRIORITY:3
TRANSP:0
END:VEVENT
END:VCALENDAR
