BEGIN:VCALENDAR
PRODID:-//AT Content Types//AT Event//EN
VERSION:1.0
BEGIN:VEVENT
DTSTART:20140206T143000Z
DTEND:20140206T163000Z
DCREATED:20140205T171249Z
UID:ATEvent-506f0742f19a43a6f5dcc4069da861b0
SEQUENCE:0
LAST-MODIFIED:20140205T171255Z
SUMMARY:Spielenachmittag-Rummicub\, Mühle und Co.
DESCRIPTION:Während des Cafébetriebs gibt es die Gelegenheit Gesells
 chaftsspiele zu spielen.
LOCATION:Café Aufbruch\, Hintere Schildstr. 18\, Dortmund Hörde
PRIORITY:3
TRANSP:0
END:VEVENT
END:VCALENDAR
