BEGIN:VCALENDAR
PRODID:-//AT Content Types//AT Event//EN
VERSION:1.0
BEGIN:VEVENT
DTSTART:20160804T133000Z
DTEND:20160804T153000Z
DCREATED:20160801T134702Z
UID:ATEvent-e0f64e64cb6a350d3c6f84712bba1366
SEQUENCE:0
LAST-MODIFIED:20160801T134711Z
SUMMARY:Spielenachmittag
DESCRIPTION:Rummicub\, Mühle\, Scrabble und Co.....
LOCATION:Café Aufbruch\, Hintere Schildstraße 18\, Dortmund Hörde
PRIORITY:3
TRANSP:0
END:VEVENT
END:VCALENDAR
