BEGIN:VCALENDAR
PRODID:-//AT Content Types//AT Event//EN
VERSION:2.0
METHOD:PUBLISH
BEGIN:VEVENT
DTSTAMP:20260421T112223Z
CREATED:20150906T122750Z
UID:ATEvent-167711640dd8ede4f2a415cc5bdff2bd
LAST-MODIFIED:20150906T122800Z
SUMMARY:Spielenachmittag
DTSTART:20150910T133000Z
DTEND:20150910T153000Z
DESCRIPTION:Rummicub\, Mühle\, Scrabble und Co...\nWährend des Café
 betriebs gibt es die \nGelegenheit Gesellschaftsspiele zu spielen.
LOCATION:Café Aufbruch\, Hintere Schildstr. 18\, Dortmund Hörde
CATEGORIES:Spielen
CLASS:PUBLIC
END:VEVENT
END:VCALENDAR
