BEGIN:VCALENDAR
PRODID:-//AT Content Types//AT Event//EN
VERSION:2.0
METHOD:PUBLISH
BEGIN:VEVENT
DTSTAMP:20260421T083038Z
CREATED:20160801T143022Z
UID:ATEvent-b56d8834288eb42a9baa115f849bfeb7
LAST-MODIFIED:20160801T143113Z
SUMMARY:Sommerfest im und am Café Aufbruch - "Zehn Jahre Café Aufbruch!"
DTSTART:20160904T130000Z
DTEND:20160904T170000Z
DESCRIPTION:Bei unserem diesjährigen Sommerfest möchten wir unser 10
 -jähriges Bestehen mit Ihnen/Euch feiern!
LOCATION:Café Aufbruch\, Hintere Schildstraße 18\, Dortmund Hörde
CATEGORIES:Feier
CLASS:PUBLIC
END:VEVENT
END:VCALENDAR
