BEGIN:VCALENDAR
PRODID:-//AT Content Types//AT Event//EN
VERSION:2.0
METHOD:PUBLISH
BEGIN:VEVENT
DTSTAMP:20260421T082933Z
CREATED:20110324T214621Z
UID:ATEvent-e8f9642239982c3c401a820d1caf75d0
LAST-MODIFIED:20140501T190711Z
SUMMARY:Sofalesung der Schreibwerkstatt - "Treffpunkt Schlanke Mathilde"
DTSTART:20140518T090000Z
DTEND:20140518T103000Z
DESCRIPTION:Die Autorinnen und Autoren der Schreibwerkstatt Emmi Beck\
 , Josef Damberg\, Michael Genschorek\, Christine Goral-Görgen\,\nJuli
 ane Lachner\, Aurora Lenz und Wulfhild Tank lesen aus ihrem Hörde-Rom
 an "Treffpunkt Schlanke Mathilde".
LOCATION:Café Aufbruch\, Hintere Schildstr. 18\, Dortmund-Hörde
CATEGORIES:Lesung
CLASS:PUBLIC
END:VEVENT
END:VCALENDAR
