BEGIN:VCALENDAR
PRODID:-//AT Content Types//AT Event//EN
VERSION:1.0
BEGIN:VEVENT
DTSTART:20160710T140000Z
DTEND:20160710T160000Z
DCREATED:20160705T155222Z
UID:ATEvent-94b777ce3cd0c7eb15eaa12968379199
SEQUENCE:0
LAST-MODIFIED:20160705T155232Z
SUMMARY:Sofalesung – „Kinder\, Eltern und andere Katastrophen“
DESCRIPTION:Die Autorinnen und Autoren der Schreibwerkstatt lesen aus 
 ihren Werken.\nFür das leibliche Wohl ist gesorgt.
LOCATION:Café Aufbruch\, Hintere Schildstraße 18\, Dortmund Hörde
PRIORITY:3
TRANSP:0
END:VEVENT
END:VCALENDAR
