BEGIN:VCALENDAR
PRODID:-//AT Content Types//AT Event//EN
VERSION:2.0
METHOD:PUBLISH
BEGIN:VEVENT
DTSTAMP:20260421T112830Z
CREATED:20121025T153625Z
UID:ATEvent-f3302836f7a70aa471f1d10e579f18e8
LAST-MODIFIED:20131103T161235Z
SUMMARY:Plastisches Gestalten/Modellieren mit Ton für Kinder und Erwachsene
DTSTART:20131108T150000Z
DTEND:20131108T163000Z
DESCRIPTION:Kursleitung\: Christian Baumgart\,\nKostenbeitrag\: Kinder
  4 Euro\, Erwachsene 5 Euro.\nEine Ermäßigung ist möglich.
LOCATION:Café Aufbruch\, Hintere Schildstraße 18\, Dortmund Hörde
CATEGORIES:Kreativwerkstatt
CLASS:PUBLIC
END:VEVENT
END:VCALENDAR
