BEGIN:VCALENDAR
PRODID:-//AT Content Types//AT Event//EN
VERSION:2.0
METHOD:PUBLISH
BEGIN:VEVENT
DTSTAMP:20260421T083221Z
CREATED:20121025T155516Z
UID:ATEvent-690daf06d5591e894684e2a75545f25c
LAST-MODIFIED:20130223T140401Z
SUMMARY:Plastisches Gestalten/Modellieren mit Ton für Kinder und Erwachsene
DTSTART:20130328T150000Z
DTEND:20130328T163000Z
DESCRIPTION:Kursleitung\: Christian Baumgart\,\nKostenbeitrag\: Kinder
  4 Euro\, Erwachsene 5 Euro
LOCATION:Café Aufbruch\, Hintere Schildstraße 18\, Dortmund Hörde
CATEGORIES:Kreativwerkstatt
CLASS:PUBLIC
END:VEVENT
END:VCALENDAR
