BEGIN:VCALENDAR
PRODID:-//AT Content Types//AT Event//EN
VERSION:1.0
BEGIN:VEVENT
DTSTART:20130516T140000Z
DTEND:20130516T153000Z
DCREATED:20121025T154117Z
UID:ATEvent-1ef273d08726c740e7753d743d743b0c
SEQUENCE:0
LAST-MODIFIED:20130430T090011Z
SUMMARY:Plastisches Gestalten/Modellieren mit Ton für Kinder und Erwachsene
DESCRIPTION:Kursleitung\: Christian Baumgart\,\nKostenbeitrag\: Kinder
  4 Euro\, Erwachsene 5 Euro
LOCATION:Café Aufbruch\, Hintere Schildstraße 18\, Dortmund Hörde
PRIORITY:3
TRANSP:0
END:VEVENT
END:VCALENDAR
