BEGIN:VCALENDAR
PRODID:-//AT Content Types//AT Event//EN
VERSION:1.0
BEGIN:VEVENT
DTSTART:20160108T150000Z
DTEND:20160108T163000Z
DCREATED:20151229T173305Z
UID:ATEvent-531d91258ab9545eb84e19736b2c551c
SEQUENCE:0
LAST-MODIFIED:20151229T173312Z
SUMMARY:Plastisches Gestalten mit Ton - Einführungskurs
DESCRIPTION:Kursleitung\: Christian Baumgart
LOCATION:Café Aufbruch\, Hintere Schildstraße 18\, Dortmund Hörde
PRIORITY:3
TRANSP:0
END:VEVENT
END:VCALENDAR
