BEGIN:VCALENDAR
PRODID:-//AT Content Types//AT Event//EN
VERSION:2.0
METHOD:PUBLISH
BEGIN:VEVENT
DTSTAMP:20260419T115532Z
CREATED:20160201T210503Z
UID:ATEvent-275f46afaae4e7337beda969b778f97e
LAST-MODIFIED:20160201T210508Z
SUMMARY:Plastisches Gestalten mit Ton\,  Einführungskurs
DTSTART:20160205T150000Z
DTEND:20160205T163000Z
DESCRIPTION:Kursleitung\: Christian Baumgart
LOCATION:Café Aufbruch\, Hintere Schildstraße 18\, Dortmund Hörde
CATEGORIES:Kreativwerkstatt
CLASS:PUBLIC
END:VEVENT
END:VCALENDAR
