BEGIN:VCALENDAR
PRODID:-//AT Content Types//AT Event//EN
VERSION:1.0
BEGIN:VEVENT
DTSTART:20071004T170000Z
DTEND:20071004T190000Z
DCREATED:20070930T151523Z
UID:ATEvent-9794f2b1032f7b0dcb0455d666269f3d
SEQUENCE:0
LAST-MODIFIED:20090123T152028Z
SUMMARY:Philosophenlounge - Thema\: Vom ich zum Du
DESCRIPTION:Treffen rund um Lebenskunst und Philosophie
LOCATION:Café Aufbruch\, Hintere Schildstr. 18\, Do-Hörde
PRIORITY:3
TRANSP:0
END:VEVENT
END:VCALENDAR
