BEGIN:VCALENDAR
PRODID:-//AT Content Types//AT Event//EN
VERSION:1.0
BEGIN:VEVENT
DTSTART:20120422T090000Z
DTEND:20120422T103000Z
DCREATED:20120327T090950Z
UID:ATEvent-154e4a8c710b97d6c0f5c8184c0e8c86
SEQUENCE:0
LAST-MODIFIED:20120327T090957Z
SUMMARY:"Offene Ateliers Dortmund 2012"
DESCRIPTION:- Fotoausstellung „Bildpaare“ der Altenakademie\n- Ein
 e Performance mit \nJürgen Wiersch \: „Poesie am Boden“\, \nmusik
 alisch begleitet von Reinhard Timmer.
LOCATION:Café Aufbruch\, Hintere Schildstr. 18\, Dortmund-Hörde
PRIORITY:3
TRANSP:0
END:VEVENT
END:VCALENDAR
