BEGIN:VCALENDAR
PRODID:-//AT Content Types//AT Event//EN
VERSION:1.0
BEGIN:VEVENT
DTSTART:20120402T133000Z
DTEND:20120402T160000Z
DCREATED:20120327T075553Z
UID:ATEvent-fef6fc99aabaf8c5dc0bc271bbd5089c
SEQUENCE:0
LAST-MODIFIED:20120327T075720Z
SUMMARY:"Occhi" - Einführung in die alte italienische Handarbeitstechnik
DESCRIPTION:Christine Goral-Görgen gibt auf Einladung des „Patchwor
 k-Treff“ eine Einführung in die alte italienische Schiffchentechnik
  „Occhi“.\nInteressent/innen sind willkommen!
LOCATION:Café Aufbruch\, Hintere Schildstr. 18\, Dortmund-Hörde
PRIORITY:3
TRANSP:0
END:VEVENT
END:VCALENDAR
