BEGIN:VCALENDAR
PRODID:-//AT Content Types//AT Event//EN
VERSION:2.0
METHOD:PUBLISH
BEGIN:VEVENT
DTSTAMP:20260421T112830Z
CREATED:20160526T081213Z
UID:ATEvent-7625c0fa54813334c2470e1c0982e62f
LAST-MODIFIED:20160526T081240Z
SUMMARY:Nepal - ­ein faszinierendes kleines Land  voller Widersprüche auf dem Dach der Erde.
DTSTART:20160601T170000Z
DTEND:20160601T183000Z
DESCRIPTION:Veranstaltung der Geschichtswerkstatt\nund der Fraueniniti
 ative Couragina
LOCATION:Café Aufbruch\, Hintere Schildstraße 18\, Dortmund Hörde
CATEGORIES:Vortrag mit Diskussion
CLASS:PUBLIC
END:VEVENT
END:VCALENDAR
