BEGIN:VCALENDAR
PRODID:-//AT Content Types//AT Event//EN
VERSION:2.0
METHOD:PUBLISH
BEGIN:VEVENT
DTSTAMP:20260421T112228Z
CREATED:20070616T131330Z
UID:ATEvent-011315e6cfd5c17e3d2da13db99ab725
LAST-MODIFIED:20090123T152024Z
SUMMARY:Nadeln im Café
DTSTART:20070710T140000Z
DTEND:20070710T160000Z
DESCRIPTION:Es wird gestrickt\, gesponnen\, erzählt und gesungen.
LOCATION:Café Aufbruch
CONTACT:Klara Lämmerhirt\, 0231/1309066
CLASS:PUBLIC
END:VEVENT
END:VCALENDAR
