BEGIN:VCALENDAR
PRODID:-//AT Content Types//AT Event//EN
VERSION:2.0
METHOD:PUBLISH
BEGIN:VEVENT
DTSTAMP:20260421T082247Z
CREATED:20090223T212516Z
UID:ATEvent-772052a683c63e0c52399a0f3f483250
LAST-MODIFIED:20090223T212541Z
SUMMARY:Nadel und Faden im Café
DTSTART:20090303T150000Z
DTEND:20090303T163000Z
DESCRIPTION:Es wird gestrickt\, gesponnen und erzählt.
LOCATION:Café Aufbruch\, Hintere Schildstr. 18\, Do-Hörde
CATEGORIES:Kreativwerkstatt
CLASS:PUBLIC
END:VEVENT
END:VCALENDAR
