BEGIN:VCALENDAR
PRODID:-//AT Content Types//AT Event//EN
VERSION:1.0
BEGIN:VEVENT
DTSTART:20260206T180000Z
DTEND:20260206T200000Z
DCREATED:20260126T121623Z
UID:ATEvent-92de769530fe4391c9c8f52f776fae62
SEQUENCE:0
LAST-MODIFIED:20260126T121631Z
SUMMARY:Nacht der Lichter\: Rainer Maria Rilke - meine Lieblingsgedichte
PRIORITY:3
TRANSP:0
END:VEVENT
END:VCALENDAR
