BEGIN:VCALENDAR
PRODID:-//AT Content Types//AT Event//EN
VERSION:2.0
METHOD:PUBLISH
BEGIN:VEVENT
DTSTAMP:20260419T141747Z
CREATED:20070616T131930Z
UID:ATEvent-5fc49e7f21abb92a612afd9402f95cae
LAST-MODIFIED:20090123T152024Z
SUMMARY:Nachbarschaftshilfe Aufbruch
DTSTART:20070721T120000Z
DTEND:20070721T130000Z
DESCRIPTION:Organisatorisches
LOCATION:Café Aufbruch
CLASS:PUBLIC
END:VEVENT
END:VCALENDAR
