BEGIN:VCALENDAR
PRODID:-//AT Content Types//AT Event//EN
VERSION:1.0
BEGIN:VEVENT
DTSTART:20260203T143000Z
DTEND:20260203T163000Z
DCREATED:20260126T121038Z
UID:ATEvent-760da2177e1ef8d4f1ca84856d102da5
SEQUENCE:0
LAST-MODIFIED:20260126T121113Z
SUMMARY:Matriarchaler Kulturkreis
PRIORITY:3
TRANSP:0
END:VEVENT
END:VCALENDAR
