BEGIN:VCALENDAR
PRODID:-//AT Content Types//AT Event//EN
VERSION:2.0
METHOD:PUBLISH
BEGIN:VEVENT
DTSTAMP:20260421T112539Z
CREATED:20140226T201821Z
UID:ATEvent-6de7db341df6d44d0a4dd228e194b676
LAST-MODIFIED:20140226T201828Z
SUMMARY:Lesung - Unterwegs mit dem Flusspoeten
DTSTART:20140314T173000Z
DTEND:20140314T190000Z
DESCRIPTION:Thorsten Trelenberg\, Flusspoet und Lyriker\nliest aus sei
 nen aktuellen Werken.
LOCATION:Café Aufbruch\, Hintere Schildstr. 18\, Dortmund Hörde
CATEGORIES:Lesung
CLASS:PUBLIC
END:VEVENT
END:VCALENDAR
