BEGIN:VCALENDAR
PRODID:-//AT Content Types//AT Event//EN
VERSION:1.0
BEGIN:VEVENT
DTSTART:20140425T160000Z
DTEND:20140425T170000Z
DCREATED:20140421T210641Z
UID:ATEvent-edcf27969d5e5e837a923fb981bdd606
SEQUENCE:0
LAST-MODIFIED:20140421T210701Z
SUMMARY:Lesung\: Revierkönige
DESCRIPTION:Die Dortmunder Autorin Daniela Gerlach liest aus ihrem Rom
 andebüt Revierkönige. Eine heiter-ironische Geschichte aus den 80er 
 Jahren\, in deren Mittelpunkt eine Gruppe von jungen Menschen steht\, 
 die mit dem berühmten Strukturwandel gar nichts am Hut haben. So unte
 rschiedlich sie sind – mal schräg oder bieder\, gefährlich oder ph
 ilosophisch –\, gemeinsam ist ihnen der Wunsch abzuhauen. Doch man h
 ängt auch am Revier – am Punk\, am Bier\, an Borussia und wie es fr
 üher war. Vielleicht ist die Liebe die einzige wirklich bewegende Kra
 ft …\nEin Lesevergnügen mit ernsten Stellen\, und auf alle Fälle a
 uthentisch.
LOCATION:Café Aufbruch\, Hintere Schildstr. 18\, Dortmund Hörde
PRIORITY:3
TRANSP:0
END:VEVENT
END:VCALENDAR
