BEGIN:VCALENDAR
PRODID:-//AT Content Types//AT Event//EN
VERSION:1.0
BEGIN:VEVENT
DTSTART:20141107T180000Z
DTEND:20141107T193000Z
DCREATED:20141012T185726Z
UID:ATEvent-81e9cb0caa2f8aa05cdf3b2b1ab1877d
SEQUENCE:0
LAST-MODIFIED:20141027T170030Z
SUMMARY:Lesung\: "Kein Krimi\, kein Dinner"
DESCRIPTION:„Literatur - Improvisation ohne Tod und kein Essen dabei
 .“\nEin Gemeinschaftsprogramm der Künstler\nThorsten Trelenberg\, R
 egine Leonore Birkner\,\nDaniela Gerlach und Jochen Ruscheweyh
LOCATION:Café Aufbruch\, Hintere Schildstr. 18\, Dortmund Hörde
PRIORITY:3
TRANSP:0
END:VEVENT
END:VCALENDAR
