BEGIN:VCALENDAR
PRODID:-//AT Content Types//AT Event//EN
VERSION:1.0
BEGIN:VEVENT
DTSTART:20101119T180000Z
DTEND:20101119T193000Z
DCREATED:20101029T193138Z
UID:ATEvent-228166eb9b5acd1db711d73673accca7
SEQUENCE:0
LAST-MODIFIED:20101029T193144Z
SUMMARY:Lesung\: „Einblick in die Gedichteküche“
DESCRIPTION:Lyrik\, warum und wie sie entsteht.\nRenate Schmitt-Peters
  liest aus ihren Gedichten und Kurzgeschichten.
LOCATION:Café Aufbruch\, Hintere Schildstr. 18\, Dortmund-Hörde
PRIORITY:3
TRANSP:0
END:VEVENT
END:VCALENDAR
