BEGIN:VCALENDAR
PRODID:-//AT Content Types//AT Event//EN
VERSION:2.0
METHOD:PUBLISH
BEGIN:VEVENT
DTSTAMP:20260421T083218Z
CREATED:20140407T100724Z
UID:ATEvent-2de1094b47a3244712466831f607e697
LAST-MODIFIED:20140407T101028Z
SUMMARY:Kundgebung am Mahnmal Bittermark - Die Geschichtswerkstatt lädt ein gemeinsam an der Gedenkfeier am Karfreitag in der Bittermark teilzunehmen.
DTSTART:20140418T110000Z
DTEND:20140418T150000Z
DESCRIPTION:Treffpunkt für Fahrradfahrer\nist vor dem Café Aufbruch 
 um 13 Uhr.
LOCATION:Café Aufbruch\, Hintere Schildstraße 18\, Dortmund Hörde
CATEGORIES:Aktionen
CLASS:PUBLIC
END:VEVENT
END:VCALENDAR
