BEGIN:VCALENDAR
PRODID:-//AT Content Types//AT Event//EN
VERSION:2.0
METHOD:PUBLISH
BEGIN:VEVENT
DTSTAMP:20260421T112543Z
CREATED:20090405T200649Z
UID:ATEvent-6eb8610a3896214bf204d42e5b0cbe7e
LAST-MODIFIED:20090405T200750Z
SUMMARY:Kochkurs\: Gut essen-für wenig Geld
DTSTART:20090423T090000Z
DTEND:20090423T120000Z
DESCRIPTION:Gekocht wird\: Saisonale Gemüse und Vollwertküche.
LOCATION:Café Aufbruch\, Hintere Schildstr. 18\, Dortmund-Hörde
CATEGORIES:Kochkurs
CLASS:PUBLIC
END:VEVENT
END:VCALENDAR
