BEGIN:VCALENDAR
PRODID:-//AT Content Types//AT Event//EN
VERSION:2.0
METHOD:PUBLISH
BEGIN:VEVENT
DTSTAMP:20260421T112347Z
CREATED:20090918T092443Z
UID:ATEvent-f31f36cb94811ef5b53a8edb079b2fb5
LAST-MODIFIED:20090918T115139Z
SUMMARY:Infoveranstaltung über (und gegen) Leiharbeit
DTSTART:20090925T170000Z
DTEND:20090925T190000Z
DESCRIPTION:Die Freie Arbeiterinnen- und Arbeiter-Union (FAU) kritisie
 rt "modernen Menschenhandel" und fordert die Abschaffung der Leiharbei
 t.
LOCATION:Cafe Aubruch\, Hintere Schildstr. 18\, Dortmund-Hörde
CATEGORIES:Vortrag mit Diskussion,Agenda 2010,Soziale Bewegungen / Bündnisse
CONTACT:FAU Dortmund\, 0231-8630105
CLASS:PUBLIC
END:VEVENT
END:VCALENDAR
