BEGIN:VCALENDAR
PRODID:-//AT Content Types//AT Event//EN
VERSION:1.0
BEGIN:VEVENT
DTSTART:20100930T143000Z
DTEND:20100930T160000Z
DCREATED:20100825T194525Z
UID:ATEvent-41958f46b979052f821cbafd0db5704e
SEQUENCE:0
LAST-MODIFIED:20100825T194606Z
SUMMARY:Informationsveranstaltung\: Sozialhilfe und Grundsicherung im Alter und bei Behinderung
DESCRIPTION:Helmut Szymanski\, Sozialarbeiter\, spricht über zustehen
 de Leistungen\, Leistungsvoraussetzungen und beantwortet Fragen
LOCATION:Café Aufbruch\, Hintere Schildstr. 18\, Dortmund-Hörde
PRIORITY:3
TRANSP:0
END:VEVENT
END:VCALENDAR
