BEGIN:VCALENDAR
PRODID:-//AT Content Types//AT Event//EN
VERSION:2.0
METHOD:PUBLISH
BEGIN:VEVENT
DTSTAMP:20260421T112056Z
CREATED:20230926T195247Z
UID:ATEvent-1f2861d0577907d82c8a9affd7fae1b7
LAST-MODIFIED:20230926T195252Z
SUMMARY:Hörder Sehfest
DTSTART:20231014T120000Z
DTEND:20231015T160000Z
DESCRIPTION:Tanja Uliczka stellt ihre Bilder aus.
LOCATION:Café Aufbruch\, Hintere Schildstr. 18\, Dortmund-Hörde
CATEGORIES:Ausstellung
CLASS:PUBLIC
END:VEVENT
END:VCALENDAR
