BEGIN:VCALENDAR
PRODID:-//AT Content Types//AT Event//EN
VERSION:2.0
METHOD:PUBLISH
BEGIN:VEVENT
DTSTAMP:20260421T083053Z
CREATED:20110530T104640Z
UID:ATEvent-66c409e8519aaaf709327dff574ba5a3
LAST-MODIFIED:20110530T104803Z
SUMMARY:Herr Dichter\, ein Gedicht! poésie à la carte - wiersch gedichtet\, wiersch serviert
DTSTART:20110530T104500Z
DTEND:20110530T104500Z
DESCRIPTION:Lieber Sprachgourmet\,\n\nSie wünschen ein Gedicht? Studi
 eren Sie zuerst die Karte! – Sie haben gewählt? Darf es ein Horsd'o
 euvre sein? oder lieber gleich das Hauptgedicht? ein klarer Vers zum N
 ach-spülen? Sie möchten mich süß? oder bitter\, stark und espressi
 vo?  nein\, es soll ein blauer Dunst sein\, Dichternebel\, der die Ver
 dauung einleitet? Bedienung erfolgt auf Zuruf\:\n\n"Herr Dichter\, ein
  Gedicht!"\n\nSie bestimmen selbst – à la carte\, wie das Programm 
 verläuft! – Der Dichter bedient persönlich\: 66  literarische Kabi
 nettstückchen und auch Sondergedichte – zum Kaffee\, zum Bier\, zum
  Kuchen... Keine Abspeisung mit Schonkost\, sondern wiersche Leib- und
  Magentexte. Poésie vis-à-vis in Stehgeigermanier exklusiv an Ihrem 
 Tisch. Und als Nachschlag für den Liebhaber des delikaten Wortes noch
  eine weiterer Leckerbissen\: der Ohrenschmaus in Schrift-form für’
 s Nachzehren zu Hause\, vom „chef des lettres“ live signiert.
LOCATION:Café Aufbruch\, Hintere Schildstr. 18. Dortmund-Hörde
CATEGORIES:Lesung
CLASS:PUBLIC
END:VEVENT
END:VCALENDAR
