BEGIN:VCALENDAR
PRODID:-//AT Content Types//AT Event//EN
VERSION:1.0
BEGIN:VEVENT
DTSTART:20110624T170000Z
DTEND:20110624T183000Z
DCREATED:20110614T105642Z
UID:ATEvent-d1197de5926be42308884647bc3111e5
SEQUENCE:0
LAST-MODIFIED:20110614T110747Z
SUMMARY:Herr Dichter\, ein Gedicht!   poésie à la carte -  wiersch gedichtet\, wiersch serviert
DESCRIPTION:Der Live- Poet Jürgen Wiersch bedient Sie persönlich.\n\
 nSie bestimmen selbst – à la carte\, wie das Programm verläuft!
LOCATION:Café Aufbruch\, Hintere Schildstr. 18\, Dortmund-Hörde
PRIORITY:3
TRANSP:0
END:VEVENT
END:VCALENDAR
