BEGIN:VCALENDAR
PRODID:-//AT Content Types//AT Event//EN
VERSION:2.0
METHOD:PUBLISH
BEGIN:VEVENT
DTSTAMP:20260421T083038Z
CREATED:20160401T144232Z
UID:ATEvent-b2d406452bc5f346626cb6971a29845c
LAST-MODIFIED:20160401T144417Z
SUMMARY:Glück – ein literarisches Filmprojekt\, Goethe meets generation poetry slam.
DTSTART:20160504T123000Z
DTEND:20160504T143000Z
DESCRIPTION:Wir\, der Verein Kunstreich im Pott e.V.\, suchen Jugendli
 che und Senioren\, die Spaß an\nGedichten und Filmen haben und an ein
 em Austausch der Generationen.
LOCATION:Café Aufbruch\, Hintere Schildstraße 18\, Dortmund Hörde
CATEGORIES:Kreativwerkstatt
CLASS:PUBLIC
END:VEVENT
END:VCALENDAR
