BEGIN:VCALENDAR
PRODID:-//AT Content Types//AT Event//EN
VERSION:2.0
METHOD:PUBLISH
BEGIN:VEVENT
DTSTAMP:20260421T112114Z
CREATED:20110625T162421Z
UID:ATEvent-41e4932b70943b09f43120c107f656a3
LAST-MODIFIED:20170728T193146Z
SUMMARY:GfK-Übungsgruppe
DTSTART:20170818T164500Z
DTEND:20170818T184500Z
DESCRIPTION:Wir üben "Gewaltfreie Kommunikation nach Marshall Rosenbe
 rg".\nInteressierte mit guten Vorkenntnissen sind willkommen.
LOCATION:Café Aufbruch\, Hintere Schildstr.18\, Dortmund-Hörde
CATEGORIES:Kommunikation
CLASS:PUBLIC
END:VEVENT
END:VCALENDAR
